BEGIN:VCALENDAR
VERSION:2.0
PRODID:-//eventon.com NONSGML v1.0//EN
CALSCALE:GREGORIAN
METHOD:PUBLISH
BEGIN:VEVENT
UID:69e88f0aac121
DTSTAMP:20260422T090410Z
DTSTART:20210724T140000Z
DTEND:20210724T170000Z
LOCATION:Washington 438 Route 57 West
SUMMARY:Pick & Paint w/ Artstitution
DESCRIPTION:TICKETS: http://artstitution.net/product/july-24-pick-paint-at
 -vonthun-farms/ You will be guided\,  step-by-step\,  by a professional art
 ist from ART•stitution while you learn how to paint our beautiful sunflow
 ers with acrylic paint on canvas. You will also get to visit the New Jersey
  Sunflower Trail and pick sunflowers to bring home! Bring a family member o
 r a friend[..]\nhttps://vonthunfarms.com/events/julypaint-2021/
URL:https://vonthunfarms.com/events/julypaint-2021/
END:VEVENT
END:VCALENDAR