BEGIN:VCALENDAR
VERSION:2.0
PRODID:-//eventon.com NONSGML v1.0//EN
CALSCALE:GREGORIAN
METHOD:PUBLISH
BEGIN:VEVENT
UID:69e838f88a960
DTSTAMP:20260422T025656Z
DTSTART:20210625T130000Z
DTEND:20210625T140000Z
LOCATION:
SUMMARY:Barnyard Buddies
DESCRIPTION:Every Friday morning at both locations from 9:30 &#8211; 10:30 
 a.m. beginning June 18th Tickets: $10 per child Barnyard Buddies is a progr
 am that was designed for kids ages 2-8 who have an interest in farm life an
 d a love of the outdoors. Each week has it’s own farm theme[..]\nhttps://
 vonthunfarms.com/events/byb-sb-2021/var/ri-1.l-L1
URL:https://vonthunfarms.com/events/byb-sb-2021/var/ri-1.l-L1
END:VEVENT
END:VCALENDAR