BEGIN:VCALENDAR
VERSION:2.0
PRODID:-//eventon.com NONSGML v1.0//EN
CALSCALE:GREGORIAN
METHOD:PUBLISH
BEGIN:VEVENT
UID:69ea3613410a8
DTSTAMP:20260423T150907Z
DTSTART:20210522T140000Z
DTEND:20210522T150000Z
LOCATION:South Brunswick 519 Ridge Road\,  Monmouth\,  NJ 08852
SUMMARY:Design an Herb Planter Workshop
DESCRIPTION:TICKETS: vonthunfarmscom.ticketleap.com/herbplanter2021 Our Gar
 dening Workshop Series was designed to share tips and tricks that will help
  you successfully garden with skill and confidence! Pick your favorites and
  pot em’ up! Prefer practical? Fill a colander with our fast growing herb
 s…they’ll be easy to grow and you can snip as you[..]\nhttps://vonthunf
 arms.com/events/herb-planter-2021/
URL:https://vonthunfarms.com/events/herb-planter-2021/
END:VEVENT
END:VCALENDAR