BEGIN:VCALENDAR
VERSION:2.0
PRODID:-//eventon.com NONSGML v1.0//EN
CALSCALE:GREGORIAN
METHOD:PUBLISH
BEGIN:VEVENT
UID:69ecd6d8a5c5c
DTSTAMP:20260425T145936Z
DTSTART:20210515T170000Z
DTEND:20210515T180000Z
LOCATION:South Brunswick 519 Ridge Road\,  Monmouth\,  NJ 08852
SUMMARY:Design a Porch Planter Workshop
DESCRIPTION:TICKETS: vonthunfarmscom.ticketleap.com/porchplanter21 Our Gard
 ening Workshop Series was designed to share tips and tricks that will help 
 you successfully garden with skill and confidence! Envious of those pretty 
 porch planters you saw so frequently last summer? Join us to make your own!
  We’ll supply the pot\,  soil\,  and plants. You do[..]\nhttps://vonthunf
 arms.com/events/porch-planter-pm-2021/
URL:https://vonthunfarms.com/events/porch-planter-pm-2021/
END:VEVENT
END:VCALENDAR