BEGIN:VCALENDAR
VERSION:2.0
PRODID:-//eventon.com NONSGML v1.0//EN
CALSCALE:GREGORIAN
METHOD:PUBLISH
BEGIN:VEVENT
UID:69e77af02aa3a
DTSTAMP:20260421T132608Z
DTSTART:20210508T140000Z
DTEND:20210508T150000Z
LOCATION:South Brunswick 519 Ridge Road\,  Monmouth\,  NJ 08852
SUMMARY:Kids Make-A-Planter Workshop
DESCRIPTION:TICKETS: vonthunfarmscom.ticketleap.com/kidsplanter21 Our Garde
 ning Workshop Series was designed to share tips and tricks that will help y
 ou successfully garden with skill and confidence! Kids of all ages are welc
 ome to join us for this hands-on workshop to design and create their own be
 autiful springtime flowering planter! If you’re planning to[..]\nhttps://
 vonthunfarms.com/events/kids-planter-2021/
URL:https://vonthunfarms.com/events/kids-planter-2021/
END:VEVENT
END:VCALENDAR